Workbook

Sheet Dashboard
B1: MANAGEMENT TOOL - ARBEITNEHMERSCHUTZ DASHBOARD
B3: Kennzahl | C3: Wert | E3: Priorität offener Mängel | F3: Anzahl
B4: Prüfpunkte | C4: =COUNTA(Prüfliste!A4:A110) -> 107 | E4: P1 Kritisch | F4: =COUNTIFS(Prüfliste!E4:E110,"Mangel",Prüfliste!H4:H110,E4) -> 0
B5: Erfüllt | C5: =COUNTIF(Prüfliste!E4:E110,"Erfüllt") -> 0 | E5: P2 Hoch | F5: =COUNTIFS(Prüfliste!E4:E110,"Mangel",Prüfliste!H4:H110,E5) -> 0
B6: Mängel | C6: =COUNTIF(Prüfliste!E4:E110,"Mangel") -> 0 | E6: P3 Mittel | F6: =COUNTIFS(Prüfliste!E4:E110,"Mangel",Prüfliste!H4:H110,E6) -> 0
B7: Nicht anwendbar | C7: =COUNTIF(Prüfliste!E4:E110,"Nicht anwendbar") -> 0 | E7: P4 Niedrig | F7: =COUNTIFS(Prüfliste!E4:E110,"Mangel",Prüfliste!H4:H110,E7) -> 0
B8: Noch offen | C8: =COUNTIF(Prüfliste!E4:E110,"Offen") -> 107
B10: Erfüllungsgrad (ohne N. a.) | C10: =IFERROR(C5/(C4-C7),0) -> 0
B21: Älteste Bewertung der Prüfliste: | C21: =MIN(Prüfliste!F4:F110) -> 0
B22: Älteste Bewertung der Prüfliste: | C22: =MAX(Prüfliste!F4:F110) -> 0
B24: Kostenlos zur Verfügung gestellt von EHS-Consult
B25: Dieses Management Tool wurde entwickelt, um Führungskräfte und verantwortliche Beauftragte bei der systematischen Überprüfung wesentlicher Arbeitnehmerschutzpflichten zu unterstützen.
B26: Sie benötigen Unterstützung bei der Durchführung eines Arbeitnehmerschutz-Audits, der Bewertung Ihrer Compliance-Organisation oder beim Aufbau eines wirksamen Kontrollsystems?
B27: EHS-Consult unterstützt Sie mit fachlicher Expertise und praxisorientierten Lösungen.
B28: www.ehs-consult.at

Sheet Prüfliste
B1: MANAGEMENT TOOL - ARBEITNEHMERSCHUTZ DASHBOARD
E2: Bewertung | H2: Maßnahme | M2: Wirksamkeitsprüfung WP
A3: ID | B3: Bereich | C3: Prüffrage | D3: Prüfnachweis | E3: Bewertung | F3: Datum der Bewertung | G3: Bewertung durchgeführt durch: | H3: Priorität der Maßnahme | I3: Frist für Maßnahme | J3: Zuständige Person für Maßnahme | K3: Maßnahme / Bemerkung | L3: Datum der Behebung/ Umsetzung Maßnahme | M3: Frist für WP | N3: Kontrolliernde Person der Wirksamkeit | O3: WP / Bemerkung | P3: Datum der WP | Q3: Wirksamkeit geprüft | R3: automatischer Abschlussstatus
A4: A-001 | B4: Organisation und Verantwortung | C4: Sind Arbeitgeberpflichten und Verantwortlichkeiten eindeutig zugeordnet? | D4: Organigramm, Verantwortungsmatrix | E4: Offen | Q4: =IF(ISNUMBER(L4),"Offen","") | R4: =IF(E4="Nicht anwendbar","N. a.",IF(E4="Erfüllt","Abgeschlossen",IF(E4="Mangel",IF(Q4="Wirksam","Abgeschlossen","Offen"),"Offen"))) -> Offen
A5: A-002 | B5: Organisation und Verantwortung | C5: Sind Führungskräfte zu ihren Schutz- und Kontrollpflichten informiert? | D5: Schulungsnachweise | E5: Offen | M5: =IF(ISNUMBER(L5),EDATE(L5,1),"") | Q5: =IF(ISNUMBER(L5),"Offen","") | R5: =IF(E5="Nicht anwendbar","N. a.",IF(E5="Erfüllt","Abgeschlossen",IF(E5="Mangel",IF(Q5="Wirksam","Abgeschlossen","Offen"),"Offen"))) -> Offen
A6: A-003 | B6: Organisation und Verantwortung | C6: Sind verantwortliche Beauftragte rechtswirksam bestellt und mit Anordnungsbefugnis ausgestattet? | D6: Bestellung, Zustimmung | E6: Offen | M6: =IF(ISNUMBER(L6),EDATE(L6,1),"") | Q6: =IF(ISNUMBER(L6),"Offen","") | R6: =IF(E6="Nicht anwendbar","N. a.",IF(E6="Erfüllt","Abgeschlossen",IF(E6="Mangel",IF(Q6="Wirksam","Abgeschlossen","Offen"),"Offen"))) -> Offen
A7: A-004 | B7: Organisation und Verantwortung | C7: Sind erforderliche Mitteilungen an das Arbeitsinspektorat erfolgt? | D7: Übermittlungsnachweis | E7: Offen | M7: =IF(ISNUMBER(L7),EDATE(L7,1),"") | Q7: =IF(ISNUMBER(L7),"Offen","") | R7: =IF(E7="Nicht anwendbar","N. a.",IF(E7="Erfüllt","Abgeschlossen",IF(E7="Mangel",IF(Q7="Wirksam","Abgeschlossen","Offen"),"Offen"))) -> Offen
A8: A-005 | B8: Organisation und Verantwortung | C8: Sind ausreichende personelle und finanzielle Ressourcen verfügbar? | D8: Budget, Personalplanung | E8: Offen | M8: =IF(ISNUMBER(L8),EDATE(L8,1),"") | Q8: =IF(ISNUMBER(L8),"Offen","") | R8: =IF(E8="Nicht anwendbar","N. a.",IF(E8="Erfüllt","Abgeschlossen",IF(E8="Mangel",IF(Q8="Wirksam","Abgeschlossen","Offen"),"Offen"))) -> Offen
A9: A-006 | B9: Organisation und Verantwortung | C9: Sind Eskalationswege bei Sicherheitsmängeln geregelt? | D9: Organisationsanweisung | E9: Offen | M9: =IF(ISNUMBER(L9),EDATE(L9,1),"") | Q9: =IF(ISNUMBER(L9),"Offen","") | R9: =IF(E9="Nicht anwendbar","N. a.",IF(E9="Erfüllt","Abgeschlossen",IF(E9="Mangel",IF(Q9="Wirksam","Abgeschlossen","Offen"),"Offen"))) -> Offen
A10: A-007 | B10: Organisation und Verantwortung | C10: Sind Schnittstellen und Fremdfirmenkoordination geregelt? | D10: Koordinationsunterlagen | E10: Offen | M10: =IF(ISNUMBER(L10),EDATE(L10,1),"") | Q10: =IF(ISNUMBER(L10),"Offen","") | R10: =IF(E10="Nicht anwendbar","N. a.",IF(E10="Erfüllt","Abgeschlossen",IF(E10="Mangel",IF(Q10="Wirksam","Abgeschlossen","Offen"),"Offen"))) -> Offen
A11: B-008 | B11: Evaluierungsorganisation | C11: Sind alle Arbeitsstätten, Arbeitsplätze und Tätigkeiten erfasst? | D11: Arbeitsplatzverzeichnis | E11: Offen | M11: =IF(ISNUMBER(L11),EDATE(L11,1),"") | Q11: =IF(ISNUMBER(L11),"Offen","") | R11: =IF(E11="Nicht anwendbar","N. a.",IF(E11="Erfüllt","Abgeschlossen",IF(E11="Mangel",IF(Q11="Wirksam","Abgeschlossen","Offen"),"Offen"))) -> Offen
A12: B-009 | B12: Evaluierungsorganisation | C12: Sind seltene Tätigkeiten wie Reinigung, Wartung und Störungsbehebung erfasst? | D12: Tätigkeitsanalyse | E12: Offen | M12: =IF(ISNUMBER(L12),EDATE(L12,1),"") | Q12: =IF(ISNUMBER(L12),"Offen","") | R12: =IF(E12="Nicht anwendbar","N. a.",IF(E12="Erfüllt","Abgeschlossen",IF(E12="Mangel",IF(Q12="Wirksam","Abgeschlossen","Offen"),"Offen"))) -> Offen
A13: B-010 | B13: Evaluierungsorganisation | C13: Sind Normalbetrieb, Anfahren, Stillsetzen und Störungen berücksichtigt? | D13: Prozessanalyse | E13: Offen | M13: =IF(ISNUMBER(L13),EDATE(L13,1),"") | Q13: =IF(ISNUMBER(L13),"Offen","") | R13: =IF(E13="Nicht anwendbar","N. a.",IF(E13="Erfüllt","Abgeschlossen",IF(E13="Mangel",IF(Q13="Wirksam","Abgeschlossen","Offen"),"Offen"))) -> Offen
A14: B-011 | B14: Evaluierungsorganisation | C14: Sind besondere Personengruppen und Schutzbedürfnisse berücksichtigt? | D14: Evaluierung | E14: Offen | M14: =IF(ISNUMBER(L14),EDATE(L14,1),"") | Q14: =IF(ISNUMBER(L14),"Offen","") | R14: =IF(E14="Nicht anwendbar","N. a.",IF(E14="Erfüllt","Abgeschlossen",IF(E14="Mangel",IF(Q14="Wirksam","Abgeschlossen","Offen"),"Offen"))) -> Offen
A15: B-012 | B15: Evaluierungsorganisation | C15: Sind evaluierende und beteiligte Personen dokumentiert? | D15: Evaluierungsprotokoll | E15: Offen | M15: =IF(ISNUMBER(L15),EDATE(L15,1),"") | Q15: =IF(ISNUMBER(L15),"Offen","") | R15: =IF(E15="Nicht anwendbar","N. a.",IF(E15="Erfüllt","Abgeschlossen",IF(E15="Mangel",IF(Q15="Wirksam","Abgeschlossen","Offen"),"Offen"))) -> Offen
A16: B-013 | B16: Evaluierungsorganisation | C16: Sind Präventivfachkräfte (SFK, AM), SVP, Betriebsrat und Beschäftigte angemessen eingebunden? | D16: Beteiligungsnachweise | E16: Offen | M16: =IF(ISNUMBER(L16),EDATE(L16,1),"") | Q16: =IF(ISNUMBER(L16),"Offen","") | R16: =IF(E16="Nicht anwendbar","N. a.",IF(E16="Erfüllt","Abgeschlossen",IF(E16="Mangel",IF(Q16="Wirksam","Abgeschlossen","Offen"),"Offen"))) -> Offen
... A110: M-107 | B110: Umsetzung, Wirksamkeit und Verbesserung | C110: Überprüft die Leitung die Wirksamkeit des Arbeitnehmerschutzsystems? | D110: Managementreview | E110: Offen | M110: =IF(ISNUMBER(L110),EDATE(L110,1),"") | Q110: =IF(ISNUMBER(L110),"Offen","") | R110: =IF(E110="Nicht anwendbar","N. a.",IF(E110="Erfüllt","Abgeschlossen",IF(E110="Mangel",IF(Q110="Wirksam","Abgeschlossen","Offen"),"Offen"))) -> Offen
B112: Kostenlos zur Verfügung gestellt von EHS-Consult
B113: Dieses Management Tool wurde entwickelt, um Führungskräfte und verantwortliche Beauftragte bei der systematischen Überprüfung wesentlicher Arbeitnehmerschutzpflichten zu unterstützen.
B114: Sie benötigen Unterstützung bei der Durchführung eines Arbeitnehmerschutz-Audits, der Bewertung Ihrer Compliance-Organisation oder beim Aufbau eines wirksamen Kontrollsystems?
B115: EHS-Consult unterstützt Sie mit fachlicher Expertise und praxisorientierten Lösungen.
B116: www.ehs-consult.at

Sheet Anleitung
A1: ANLEITUNG
A3: 1. | B3: In Pruefliste pro Frage den Status per Dropdown wählen.
A4: 2. | B4: Bei Mangel Priorität, Verantwortliche, Frist und konkrete Maßnahme eintragen.
A5: 3. | B5: Nach Umsetzung Datum eintragen und Wirksamkeitsprüfung dokumentieren.
A6: 4. | B6: Dashboard aktualisiert sich automatisch über Excel-Formeln.
A7: 5. | B7: Über Tabellenfilter nach Bereich, Mangel, Priorität oder Frist filtern.
A14: Hinweis | B14: Die Checkliste ist ein Managementinstrument, keine abschließende Rechtsprüfung. Die Informationen der EHS-Compliance, als unternehmerisches Managementwerkzeug zur Unterstützung des Kontrollsystems, helfen Unternehmen ihre eigene Compliance-Organisation zu führen. Die Darstellung dient der betrieblichen Steuerung, nicht der Durchsetzung oder Abwehr von Ansprüchen gegenüber Behörden oder Dritten, nicht Einwendungen zu erheben oder Forderungen abzuwehren und stellt keine Rechtsauskunft für den Gebrauch im Rechtverkehr dar. EHS-Consult übernimmt keine Haftung für die Vollständigkeit, Richtigkeit oder Aktualität rechtlicher Informationen, soweit diese im Rahmen der Beratung der Managementsysteme zur Verfügung gestellt werden. Für die rechtliche Beurteilung von Einzelsachverhalten sind die Auftraggeber auf die Einholung spezialisierter Fachberatung verwiesen.
A15: Haftungsausschluss | B15: Die enthaltenen Informationen sind allgemeiner Art und dienen lediglich allgemeinen Informationszwecken. Wir weisen explizit darauf hin, dass der vorliegende Inhalt weder eine individuelle Beratung, Rechtsauskunft noch eine sonstige fachliche Auskunft oder Empfehlung darstellt und nicht geeignet ist, eine individuelle Beratung durch fachkundige Personen unter Berücksichtigung der konkreten Umstände des Einzelfalles zu ersetzen. Die Daten wurden einmalig erstellt und werden nicht laufend aktuell gehalten. Die Zusammenstellung der Informationen erfolgte mit der gebotenen Sorgfalt. Gleichwohl übernehmen wir daher keinerlei Haftung, aus welchem Rechtsgrund auch immer, für die angebotenen Informationen, wie insbesondere für deren Richtigkeit, Aktualität, Vollständigkeit und Fehlerfreiheit. Für Entscheidungen, die der Verwender auf Grund der allgemeinen Informationen trifft, übernehmen wir keine Verantwortung. © | EHS-Consult
A16: 46296
A21: Kostenlos zur Verfügung gestellt von EHS-Consult
A22: Dieses Management Tool wurde entwickelt, um Führungskräfte und verantwortliche Beauftragte bei der systematischen Überprüfung wesentlicher Arbeitnehmerschutzpflichten zu unterstützen.
A23: Sie benötigen Unterstützung bei der Durchführung eines Arbeitnehmerschutz-Audits, der Bewertung Ihrer Compliance-Organisation oder beim Aufbau eines wirksamen Kontrollsystems?
A24: EHS-Consult unterstützt Sie mit fachlicher Expertise und praxisorientierten Lösungen.
A25: www.ehs-consult.at
